BEGIN:VCALENDAR
VERSION:2.0
PRODID:-//Crossroads Christian School - ECPv6.15.17//NONSGML v1.0//EN
CALSCALE:GREGORIAN
METHOD:PUBLISH
X-WR-CALNAME:Crossroads Christian School
X-ORIGINAL-URL:https://www.crossroadsschool.org
X-WR-CALDESC:Events for Crossroads Christian School
REFRESH-INTERVAL;VALUE=DURATION:PT1H
X-Robots-Tag:noindex
X-PUBLISHED-TTL:PT1H
BEGIN:VTIMEZONE
TZID:America/Los_Angeles
BEGIN:DAYLIGHT
TZOFFSETFROM:-0800
TZOFFSETTO:-0700
TZNAME:PDT
DTSTART:20250309T100000
END:DAYLIGHT
BEGIN:STANDARD
TZOFFSETFROM:-0700
TZOFFSETTO:-0800
TZNAME:PST
DTSTART:20251102T090000
END:STANDARD
BEGIN:DAYLIGHT
TZOFFSETFROM:-0800
TZOFFSETTO:-0700
TZNAME:PDT
DTSTART:20260308T100000
END:DAYLIGHT
BEGIN:STANDARD
TZOFFSETFROM:-0700
TZOFFSETTO:-0800
TZNAME:PST
DTSTART:20261101T090000
END:STANDARD
BEGIN:DAYLIGHT
TZOFFSETFROM:-0800
TZOFFSETTO:-0700
TZNAME:PDT
DTSTART:20270314T100000
END:DAYLIGHT
BEGIN:STANDARD
TZOFFSETFROM:-0700
TZOFFSETTO:-0800
TZNAME:PST
DTSTART:20271107T090000
END:STANDARD
END:VTIMEZONE
BEGIN:VEVENT
DTSTART;TZID=America/Los_Angeles:20260429T081000
DTEND;TZID=America/Los_Angeles:20260429T084000
DTSTAMP:20260423T033027
CREATED:20250807T162208Z
LAST-MODIFIED:20260302T174222Z
UID:10004034-1777450200-1777452000@www.crossroadsschool.org
SUMMARY:1st + 2nd Grade Chapel
DESCRIPTION:
URL:https://www.crossroadsschool.org/event/1st-2nd-grade-chapel-2/2026-04-29/
LOCATION:The Chapel
CATEGORIES:Elementary
END:VEVENT
BEGIN:VEVENT
DTSTART;TZID=America/Los_Angeles:20260429T085000
DTEND;TZID=America/Los_Angeles:20260429T092000
DTSTAMP:20260423T033027
CREATED:20250807T162311Z
LAST-MODIFIED:20260302T174236Z
UID:10004072-1777452600-1777454400@www.crossroadsschool.org
SUMMARY:3rd Grade Chapel
DESCRIPTION:
URL:https://www.crossroadsschool.org/event/3rd-grade-chapel-2/2026-04-29/
LOCATION:The Chapel
CATEGORIES:Elementary
END:VEVENT
BEGIN:VEVENT
DTSTART;TZID=America/Los_Angeles:20260429T093000
DTEND;TZID=America/Los_Angeles:20260429T100000
DTSTAMP:20260423T033027
CREATED:20250807T162413Z
LAST-MODIFIED:20260302T174253Z
UID:10004110-1777455000-1777456800@www.crossroadsschool.org
SUMMARY:4th + 5th Grade Chapel
DESCRIPTION:
URL:https://www.crossroadsschool.org/event/4th-5th-grade-chapel-2/2026-04-29/
LOCATION:The Chapel
CATEGORIES:Elementary
END:VEVENT
BEGIN:VEVENT
DTSTART;TZID=America/Los_Angeles:20260429T101000
DTEND;TZID=America/Los_Angeles:20260429T104000
DTSTAMP:20260423T033027
CREATED:20250807T162032Z
LAST-MODIFIED:20260302T174150Z
UID:10003996-1777457400-1777459200@www.crossroadsschool.org
SUMMARY:TK + K Chapel
DESCRIPTION:
URL:https://www.crossroadsschool.org/event/tk-k-chapel/2026-04-29/
LOCATION:The Chapel
CATEGORIES:Elementary
END:VEVENT
BEGIN:VEVENT
DTSTART;TZID=America/Los_Angeles:20260506T081000
DTEND;TZID=America/Los_Angeles:20260506T084000
DTSTAMP:20260423T033027
CREATED:20250807T162208Z
LAST-MODIFIED:20260302T174222Z
UID:10004035-1778055000-1778056800@www.crossroadsschool.org
SUMMARY:1st + 2nd Grade Chapel
DESCRIPTION:
URL:https://www.crossroadsschool.org/event/1st-2nd-grade-chapel-2/2026-05-06/
LOCATION:The Chapel
CATEGORIES:Elementary
END:VEVENT
BEGIN:VEVENT
DTSTART;TZID=America/Los_Angeles:20260506T085000
DTEND;TZID=America/Los_Angeles:20260506T092000
DTSTAMP:20260423T033027
CREATED:20250807T162311Z
LAST-MODIFIED:20260302T174236Z
UID:10004073-1778057400-1778059200@www.crossroadsschool.org
SUMMARY:3rd Grade Chapel
DESCRIPTION:
URL:https://www.crossroadsschool.org/event/3rd-grade-chapel-2/2026-05-06/
LOCATION:The Chapel
CATEGORIES:Elementary
END:VEVENT
BEGIN:VEVENT
DTSTART;TZID=America/Los_Angeles:20260506T093000
DTEND;TZID=America/Los_Angeles:20260506T100000
DTSTAMP:20260423T033027
CREATED:20250807T162413Z
LAST-MODIFIED:20260302T174253Z
UID:10004111-1778059800-1778061600@www.crossroadsschool.org
SUMMARY:4th + 5th Grade Chapel
DESCRIPTION:
URL:https://www.crossroadsschool.org/event/4th-5th-grade-chapel-2/2026-05-06/
LOCATION:The Chapel
CATEGORIES:Elementary
END:VEVENT
BEGIN:VEVENT
DTSTART;TZID=America/Los_Angeles:20260506T101000
DTEND;TZID=America/Los_Angeles:20260506T104000
DTSTAMP:20260423T033027
CREATED:20250807T162032Z
LAST-MODIFIED:20260302T174150Z
UID:10003997-1778062200-1778064000@www.crossroadsschool.org
SUMMARY:TK + K Chapel
DESCRIPTION:
URL:https://www.crossroadsschool.org/event/tk-k-chapel/2026-05-06/
LOCATION:The Chapel
CATEGORIES:Elementary
END:VEVENT
END:VCALENDAR